BEGIN:VCALENDAR
VERSION:2.0
PRODID:-//blrdesigncentre.com - ECPv6.15.20//NONSGML v1.0//EN
CALSCALE:GREGORIAN
METHOD:PUBLISH
X-ORIGINAL-URL:https://blrdesigncentre.com
X-WR-CALDESC:Events for blrdesigncentre.com
REFRESH-INTERVAL;VALUE=DURATION:PT1H
X-Robots-Tag:noindex
X-PUBLISHED-TTL:PT1H
BEGIN:VTIMEZONE
TZID:Asia/Kolkata
BEGIN:STANDARD
TZOFFSETFROM:+0530
TZOFFSETTO:+0530
TZNAME:IST
DTSTART:20250101T000000
END:STANDARD
END:VTIMEZONE
BEGIN:VEVENT
DTSTART;TZID=Asia/Kolkata:20260307T160000
DTEND;TZID=Asia/Kolkata:20260307T193000
DTSTAMP:20260419T184945
CREATED:20260302T125907Z
LAST-MODIFIED:20260302T130559Z
UID:8790-1772899200-1772911800@blrdesigncentre.com
SUMMARY:Movie Screening and Discussion
DESCRIPTION:[vc_row type=”in_container” full_screen_row_position=”middle” column_margin=”default” column_direction=”default” column_direction_tablet=”default” column_direction_phone=”default” scene_position=”center” text_color=”dark” text_align=”left” row_border_radius=”none” row_border_radius_applies=”bg” overflow=”visible” overlay_strength=”0.3″ gradient_direction=”left_to_right” shape_divider_position=”bottom” bg_image_animation=”none”][vc_column column_padding=”no-extra-padding” column_padding_tablet=”inherit” column_padding_phone=”inherit” column_padding_position=”all” column_element_direction_desktop=”default” column_element_spacing=”default” desktop_text_alignment=”default” tablet_text_alignment=”default” phone_text_alignment=”default” background_color_opacity=”1″ background_hover_color_opacity=”1″ column_backdrop_filter=”none” column_shadow=”none” column_border_radius=”none” column_link_target=”_self” column_position=”default” gradient_direction=”left_to_right” overlay_strength=”0.3″ width=”1/1″ tablet_width_inherit=”default” animation_type=”default” bg_image_animation=”none” border_type=”simple” column_border_width=”none” column_border_style=”solid”][vc_column_text]The Bangalore Readers Society presents a screening of Shutter Island\, a psychological thriller that delves into memory\, identity\, and the fragile nature of reality. Set within an isolated psychiatric institution\, the film follows an investigation that slowly spirals inward\, revealing how the mind shields itself from truths too painful to confront. \nMore than a suspense-driven narrative\, this screening invites reflection on perception\, denial\, and the choices we make when faced with uncomfortable truths. Join us for an evening of cinema and conversation — and stay back to unpack what lingers long after the credits roll.[/vc_column_text][/vc_column][/vc_row][vc_row type=”in_container” full_screen_row_position=”middle” column_margin=”default” column_direction=”default” column_direction_tablet=”default” column_direction_phone=”default” scene_position=”center” text_color=”dark” text_align=”left” row_border_radius=”none” row_border_radius_applies=”bg” overflow=”visible” overlay_strength=”0.3″ gradient_direction=”left_to_right” shape_divider_position=”bottom” bg_image_animation=”none”][vc_column column_padding=”no-extra-padding” column_padding_tablet=”inherit” column_padding_phone=”inherit” column_padding_position=”all” column_element_direction_desktop=”default” column_element_spacing=”default” desktop_text_alignment=”default” tablet_text_alignment=”default” phone_text_alignment=”default” background_color_opacity=”1″ background_hover_color_opacity=”1″ column_backdrop_filter=”none” column_shadow=”none” column_border_radius=”none” column_link_target=”_self” column_position=”default” gradient_direction=”left_to_right” overlay_strength=”0.3″ width=”1/1″ tablet_width_inherit=”default” animation_type=”default” bg_image_animation=”none” border_type=”simple” column_border_width=”none” column_border_style=”solid”][nectar_btn size=”large” open_new_tab=”true” button_style=”regular” button_color_2=”Extra-Color-3″ icon_family=”fontawesome” text=”Register Here” url=”https://urbanaut.app/spot/blr-readers-society&#8221; icon_fontawesome=”fa fa-hand-o-right”][/vc_column][/vc_row]
URL:https://blrdesigncentre.com/event/movie-screening-and-discussion-3/
LOCATION:BLR Design Centre\, BLR Design Centre\, 6th Floor\, 46/1\, Church St\, Haridevpur\, Shanthala Nagar\, Ashok Nagar\, Bengaluru\, Karnataka\, 560001\, India
CATEGORIES:Film Screening
ATTACH;FMTTYPE=image/png:https://blrdesigncentre.com/wp-content/uploads/2026/03/Web-banner.png
END:VEVENT
BEGIN:VEVENT
DTSTART;TZID=Asia/Kolkata:20260313T180000
DTEND;TZID=Asia/Kolkata:20260313T200000
DTSTAMP:20260419T184945
CREATED:20260306T083958Z
LAST-MODIFIED:20260310T060413Z
UID:8834-1773424800-1773432000@blrdesigncentre.com
SUMMARY:Public Realm in India
DESCRIPTION:Mod Foundation\, in collaboration with Charles Correa Foundation\, presents the exclusive screening of the Nagari Short Film Competition 2025. \nThis year’s theme\, Public Realm in Urban India\, explores and documents the character of public spaces in Indian cities. Conventionally\, public spaces are understood as places open and accessible to all\, such as maidans\, parks\, and waterfronts. However\, the density and everyday dynamics of Indian cities expand this idea to include streets\, footpaths\, markets\, alleyways\, and transport infrastructure. These spaces function as vibrant arenas of daily life where multiple activities unfold simultaneously. The public realm in India is therefore layered and constantly shifting\, shaped by patterns of use\, scale\, and social interaction that vary across time\, seasons\, and communities. It is within these spaces that urban culture is most visibly expressed and negotiated. With public space at its core\, Nagari will explore how people across caste\, class\, gender\, and age engage with and shape the public realm. \nJoin us for an evening of short film screenings followed by a Q&A with the CCF team and the filmmakers. \nRSVP Here!
URL:https://blrdesigncentre.com/event/public-realm-in-india/
LOCATION:BLR Design Centre\, BLR Design Centre\, 6th Floor\, 46/1\, Church St\, Haridevpur\, Shanthala Nagar\, Ashok Nagar\, Bengaluru\, Karnataka\, 560001\, India
CATEGORIES:Film Screening
ATTACH;FMTTYPE=image/png:https://blrdesigncentre.com/wp-content/uploads/2026/03/Website-Banner-1.png
END:VEVENT
BEGIN:VEVENT
DTSTART;TZID=Asia/Kolkata:20260321T160000
DTEND;TZID=Asia/Kolkata:20260321T200000
DTSTAMP:20260419T184945
CREATED:20260317T103038Z
LAST-MODIFIED:20260318T104810Z
UID:8869-1774108800-1774123200@blrdesigncentre.com
SUMMARY:The Brutalist
DESCRIPTION:BLR Reads – Library and Archive in collaboration with Bangalore Readers Society presents a screening of The Brutalist – A film about ambition\, exile\, and the quiet weight of creation. \nThe Brutalist traces the journey of László Tóth\, a visionary architect who flees post-war Europe and arrives in America driven by ambition and belief in his craft. What starts as a pursuit of opportunity gradually turns into a deeper struggle with identity\, authority\, and the personal sacrifices behind creating enduring work. \nDirected by Brady Corbet\, the film spans decades with a grand narrative scope\, blending emotional depth with striking visual storytelling. Adrien Brody leads a compelling cast alongside Felicity Jones and Guy Pearce\, portraying the intersection of art\, memory\, and legacy. Celebrated internationally\, the film received the Silver Lion at Venice and multiple Golden Globe nominations. \nThe screening will be followed by a discussion exploring its themes and historical context. \nRSVP Here!
URL:https://blrdesigncentre.com/event/the-brutalist/
LOCATION:BLR Design Centre\, BLR Design Centre\, 6th Floor\, 46/1\, Church St\, Haridevpur\, Shanthala Nagar\, Ashok Nagar\, Bengaluru\, Karnataka\, 560001\, India
CATEGORIES:Film Screening
ATTACH;FMTTYPE=image/png:https://blrdesigncentre.com/wp-content/uploads/2026/03/21-MAR-The-Brutalist-4.png
END:VEVENT
END:VCALENDAR